BEGIN:VCALENDAR
VERSION:2.0
CALSCALE:GREGORIAN
PRODID:adamgibbons/ics
METHOD:PUBLISH
X-PUBLISHED-TTL:PT1H
BEGIN:VEVENT
UID:4Fq4-eGEAGxrifxn2CUyc
SUMMARY:Ridelist - Weekend Brooklyn Ride 2
DTSTAMP:20260422T193739Z
DTSTART:20241123T080000Z
URL:https://ridelist.pages.dev/events/b8h0zj89qmh2qagzexqrfv8c/
GEO:40.6398992;-74.03284339893688
LOCATION:Owl's Head Park
X-MICROSOFT-CDO-BUSYSTATUS:BUSY
DURATION:PT2H
END:VEVENT
END:VCALENDAR
