BEGIN:VCALENDAR
VERSION:2.0
CALSCALE:GREGORIAN
PRODID:adamgibbons/ics
METHOD:PUBLISH
X-PUBLISHED-TTL:PT1H
BEGIN:VEVENT
UID:Z0s8FjudZe8A9FyuVyi5g
SUMMARY:Ridelist - Sea to Si
DTSTAMP:20260422T193434Z
DTSTART:20241018T160000Z
URL:https://ridelist.pages.dev/events/ee542inyf3414mtqms1di58y/
GEO:47.69219965;-122.40297959142308
LOCATION:Golden Garden Parks\, Seattle
X-MICROSOFT-CDO-BUSYSTATUS:BUSY
DURATION:PT1H
END:VEVENT
END:VCALENDAR
