BEGIN:VCALENDAR
VERSION:2.0
CALSCALE:GREGORIAN
PRODID:adamgibbons/ics
METHOD:PUBLISH
X-PUBLISHED-TTL:PT1H
BEGIN:VEVENT
UID:9zYdEmwO1J23M8tqcpzsS
SUMMARY:Ridelist - Weekend Brooklyn Ride
DTSTAMP:20260422T193913Z
DTSTART:20241116T080000Z
URL:https://ridelist.pages.dev/events/h0gzx8frs5jt1os8ub71cn14/
GEO:40.6398992;-74.03284339893688
LOCATION:Owl’s Head Park\, Brooklyn\, New York\, NY\, United States of Amer
	ica
X-MICROSOFT-CDO-BUSYSTATUS:BUSY
DURATION:PT2H
END:VEVENT
END:VCALENDAR
