BEGIN:VCALENDAR
VERSION:2.0
CALSCALE:GREGORIAN
PRODID:adamgibbons/ics
METHOD:PUBLISH
X-PUBLISHED-TTL:PT1H
BEGIN:VEVENT
UID:JHCwvl4mL78X1lxkEwmi5
SUMMARY:Ridelist - Belgian Waffle Ride Mexico 2024
DTSTAMP:20260422T193215Z
DTSTART:20241124T133000Z
URL:https://ridelist.pages.dev/events/k03hne3ivascmupmpk7tybxl/
GEO:20.5954708;-100.397059
LOCATION:Querétaro\, QUE\, Mexico
X-MICROSOFT-CDO-BUSYSTATUS:BUSY
DURATION:PT1H
END:VEVENT
END:VCALENDAR
