BEGIN:VCALENDAR
VERSION:2.0
CALSCALE:GREGORIAN
PRODID:adamgibbons/ics
METHOD:PUBLISH
X-PUBLISHED-TTL:PT1H
BEGIN:VEVENT
UID:O37XEfDzJQFLZgLKIU-7Z
SUMMARY:Ridelist - 30th Annual Kitsap Color Classic
DTSTAMP:20260422T193745Z
DTSTART:20241006T070000Z
URL:https://ridelist.pages.dev/events/kitsap-color-classic-2024/
GEO:47.7969917;-122.4961168
LOCATION:Port of Kingston Kiwanis Park\, 25882 Washington Boulevard Northea
	st\, Kingston\, 98346\, United States
X-MICROSOFT-CDO-BUSYSTATUS:BUSY
DURATION:PT8H
END:VEVENT
END:VCALENDAR
