BEGIN:VCALENDAR
VERSION:2.0
CALSCALE:GREGORIAN
PRODID:adamgibbons/ics
METHOD:PUBLISH
X-PUBLISHED-TTL:PT1H
BEGIN:VEVENT
UID:ueleMHQlDaNtCb3YqhN99
SUMMARY:Ridelist - Lake Chelan Tour
DTSTAMP:20260422T193709Z
DTSTART:20240927T080000Z
URL:https://ridelist.pages.dev/events/lake-chelan-tour-2024/
GEO:47.844617;-120.025494
LOCATION:Don Morse Memorial Park  485 W Manson Hwy Chelane\, WA 98816 Unite
	d States
X-MICROSOFT-CDO-BUSYSTATUS:BUSY
DURATION:P3DT
END:VEVENT
END:VCALENDAR
