BEGIN:VCALENDAR
VERSION:2.0
CALSCALE:GREGORIAN
PRODID:adamgibbons/ics
METHOD:PUBLISH
X-PUBLISHED-TTL:PT1H
BEGIN:VEVENT
UID:X6yIYPuhNQQng35T7MEpV
SUMMARY:Ridelist - The Big Mick
DTSTAMP:20260422T210554Z
DTSTART:20260613T110000Z
URL:https://ridelist.pages.dev/events/lgsi26pnwarj5630b58vgz0a/
GEO:44.3743812;-103.7290723
LOCATION:Deadwood\, SD\, United States of America
X-MICROSOFT-CDO-BUSYSTATUS:BUSY
DURATION:PT12H
END:VEVENT
END:VCALENDAR
