BEGIN:VCALENDAR
VERSION:2.0
CALSCALE:GREGORIAN
PRODID:adamgibbons/ics
METHOD:PUBLISH
X-PUBLISHED-TTL:PT1H
BEGIN:VEVENT
UID:PZ9E7v8UOTtvSYAPw9_jv
SUMMARY:Ridelist - The 41st Mt. Diablo Challenge Ride
DTSTAMP:20260422T193550Z
DTSTART:20241006T070000Z
URL:https://ridelist.pages.dev/events/osq4r9limfhf17hefrayposz/
GEO:37.8347206;-121.9501727
LOCATION:Monte Vista High School\, 3131 Stone Valley Rd\, Danville\, CA 945
	26
X-MICROSOFT-CDO-BUSYSTATUS:BUSY
DURATION:PT4H
END:VEVENT
END:VCALENDAR
