BEGIN:VCALENDAR
VERSION:2.0
CALSCALE:GREGORIAN
PRODID:adamgibbons/ics
METHOD:PUBLISH
X-PUBLISHED-TTL:PT1H
BEGIN:VEVENT
UID:0AqFhUiWS6fTqsQFzbQM-
SUMMARY:Ridelist - EPBC Thursday Morning Cruise
DTSTAMP:20260422T193612Z
DTSTART:20241128T151500Z
URL:https://ridelist.pages.dev/events/pkx0ejib7omxfvkgvs96upxi/
GEO:31.9108307;-106.5842931
LOCATION:Pizza Hut\, 7049 South Desert Boulevard\, El Paso\, TX 79932\, Uni
	ted States of America
X-MICROSOFT-CDO-BUSYSTATUS:BUSY
DURATION:PT3H
END:VEVENT
END:VCALENDAR
