BEGIN:VCALENDAR
VERSION:2.0
CALSCALE:GREGORIAN
PRODID:adamgibbons/ics
METHOD:PUBLISH
X-PUBLISHED-TTL:PT1H
BEGIN:VEVENT
UID:LgP35_h6D_BUfypdLe_F0
SUMMARY:Ridelist - Betterride MTB Core Skills 1 Camp
DTSTAMP:20260422T193434Z
DTSTART:20241124T160000Z
URL:https://ridelist.pages.dev/events/wbh6qq1v7jnakrfez6s6uy3c/
GEO:33.4942189;-111.926018
LOCATION:Scottsdale\, AZ\, United States of America
X-MICROSOFT-CDO-BUSYSTATUS:BUSY
DURATION:P2DT
END:VEVENT
END:VCALENDAR
