BEGIN:VCALENDAR
VERSION:2.0
CALSCALE:GREGORIAN
PRODID:adamgibbons/ics
METHOD:PUBLISH
X-PUBLISHED-TTL:PT1H
BEGIN:VEVENT
UID:u4_vJi4DFQHT-P7qBosqM
SUMMARY:Ridelist - Coyote Classic (round 3 of 3)
DTSTAMP:20260422T193215Z
DTSTART:20241130T153000Z
URL:https://ridelist.pages.dev/events/ztxc8wrn87xpmpjykrlvoc68/
GEO:35.9751274;-114.8466404
LOCATION:1027 Canyon Road\, Boulder City\, NV 89005\, United States of Amer
	ica
X-MICROSOFT-CDO-BUSYSTATUS:BUSY
DURATION:PT1H
END:VEVENT
END:VCALENDAR
